BEGIN:VCALENDAR
VERSION:2.0
PRODID:-//Ana Estellés | Nutrición Terapéutica - ECPv6.0.10//NONSGML v1.0//EN
CALSCALE:GREGORIAN
METHOD:PUBLISH
X-WR-CALNAME:Ana Estellés | Nutrición Terapéutica
X-ORIGINAL-URL:https://anaestelles.com
X-WR-CALDESC:Eventos para Ana Estellés | Nutrición Terapéutica
REFRESH-INTERVAL;VALUE=DURATION:PT1H
X-Robots-Tag:noindex
X-PUBLISHED-TTL:PT1H
BEGIN:VTIMEZONE
TZID:Europe/Madrid
BEGIN:DAYLIGHT
TZOFFSETFROM:+0100
TZOFFSETTO:+0200
TZNAME:CEST
DTSTART:20150329T010000
END:DAYLIGHT
BEGIN:STANDARD
TZOFFSETFROM:+0200
TZOFFSETTO:+0100
TZNAME:CET
DTSTART:20151025T010000
END:STANDARD
BEGIN:DAYLIGHT
TZOFFSETFROM:+0100
TZOFFSETTO:+0200
TZNAME:CEST
DTSTART:20160327T010000
END:DAYLIGHT
BEGIN:STANDARD
TZOFFSETFROM:+0200
TZOFFSETTO:+0100
TZNAME:CET
DTSTART:20161030T010000
END:STANDARD
BEGIN:DAYLIGHT
TZOFFSETFROM:+0100
TZOFFSETTO:+0200
TZNAME:CEST
DTSTART:20170326T010000
END:DAYLIGHT
BEGIN:STANDARD
TZOFFSETFROM:+0200
TZOFFSETTO:+0100
TZNAME:CET
DTSTART:20171029T010000
END:STANDARD
BEGIN:DAYLIGHT
TZOFFSETFROM:+0100
TZOFFSETTO:+0200
TZNAME:CEST
DTSTART:20180325T010000
END:DAYLIGHT
BEGIN:STANDARD
TZOFFSETFROM:+0200
TZOFFSETTO:+0100
TZNAME:CET
DTSTART:20181028T010000
END:STANDARD
BEGIN:DAYLIGHT
TZOFFSETFROM:+0100
TZOFFSETTO:+0200
TZNAME:CEST
DTSTART:20190331T010000
END:DAYLIGHT
BEGIN:STANDARD
TZOFFSETFROM:+0200
TZOFFSETTO:+0100
TZNAME:CET
DTSTART:20191027T010000
END:STANDARD
BEGIN:DAYLIGHT
TZOFFSETFROM:+0100
TZOFFSETTO:+0200
TZNAME:CEST
DTSTART:20200329T010000
END:DAYLIGHT
BEGIN:STANDARD
TZOFFSETFROM:+0200
TZOFFSETTO:+0100
TZNAME:CET
DTSTART:20201025T010000
END:STANDARD
BEGIN:DAYLIGHT
TZOFFSETFROM:+0100
TZOFFSETTO:+0200
TZNAME:CEST
DTSTART:20210328T010000
END:DAYLIGHT
BEGIN:STANDARD
TZOFFSETFROM:+0200
TZOFFSETTO:+0100
TZNAME:CET
DTSTART:20211031T010000
END:STANDARD
END:VTIMEZONE
BEGIN:VEVENT
DTSTART;TZID=Europe/Madrid:20210905T180000
DTEND;TZID=Europe/Madrid:20210905T200000
DTSTAMP:20260423T133538
CREATED:20210818T093954Z
LAST-MODIFIED:20210901T203419Z
UID:5029-1630864800-1630872000@anaestelles.com
SUMMARY:ONLINE WORKSHOP: HOW TO IMPROVE HEALTH EGG BEFORE CONCEIVING
DESCRIPTION:Preconception care for women and men are important to improve fertility\, pregnancy outcomes and the health of future generations. \nIn this workshop we will focus on egg health specifically. \nChromosomal abnormalities of the eggs are one of the main reasons behind fertility problems and miscarriages in women. This problem is more common in women after 35 years old but egg quality has an impact in all age groups\, and chromosomal errors in younger women are also common. \nLuckily the proportion of eggs with chromosomal abnormalities can be influenced by nutrients and lifestyle factors. In fact\, most of the chromosomal abnormalities in eggs happen in the couple of months before an egg is ovulated\, s is the reason why experts recommend to implement nutrition and lifestyle changes 2 to 4 months before conceiving. \nAttendees of this workshop will learn science based nutrition and lifestyle recommendations to implement in their daily life to increase egg quality and therefore maximize their options to conceive a healthy baby and have a successful pregnancy either naturally or through fertility treatments. \nAfter the workshop\, participants will receive a pdf with the most important ideas.  \nThis workshop will be in english.  \n  \nSING UP FOR THE WORKSHOP HERE\n\n\n  \n\n\n\n\n\n\n\n\n\n\nName and surname (required)\n \n\n \nE-mail (required)\n \n\n \nRecording Consent (required)\n \nYesNo\n \nMessage\n \n\n \nYou will receive an email with all the details\n \n\n Δ
URL:https://anaestelles.com/evento/online-workshop-how-to-improve-health-egg-before-conceiving/
ATTACH;FMTTYPE=image/png:https://anaestelles.com/wp-content/uploads/2021/08/Adobe_Post_20210901_2231570.8630681140420827.png
END:VEVENT
BEGIN:VEVENT
DTSTART;VALUE=DATE:20200601
DTEND;VALUE=DATE:20200611
DTSTAMP:20260423T133538
CREATED:20200528T102753Z
LAST-MODIFIED:20200601T081639Z
UID:4905-1590969600-1591833599@anaestelles.com
SUMMARY:Reto: 10 días de zumo de apio
DESCRIPTION:Os propongo un reto que puede que no suene muy bien a priori\, pero que puede ayudaros enormemente a mejorar vuestra salud\, ya que este zumo tomado en ayunas\, gracias a sus sales minerales\, vitaminas y antioxidantes\, tiene muchísimos beneficios. Vamos a empezar el próximo lunes día 1 y lo haremos durante 10 días. En 10 días seguro que notáis ya sus beneficios de alguna forma (más energía\, mejores digestiones\, piel más luminosa\, etc.)\, pero para las personas que tienen como objetivo mejorar aspectos concretos o que sufren algún trastorno desde hace tiempo como problemas digestivos o infecciones recurrentes\, sería recomendable que siguiesen durante más tiempo para notar mucho más sus efectos en esos problemas concretos (al menos 3 a 6 meses). \n¿Qué necesitas?\nCada día vas a necesitar un manojo entero de apio\, ya que tenemos que tomar alrededor de 300-400 ml de zumo de apio. Podemos directamente comprar 10 manojos antes de empezar (si tenéis espacio en la nevera\, claro!) y sino comprarlos poco a poco. Lo ideal es que sea ecológico\, ya que el apio es una de las verduras que más pesticidas y herbicidas absorbe (en ecorgánic\, consum y carrefour tienen\, sino también podéis pedirlo a algún agricultor online para que os lo lleven a casa)\, pero si no tenéis acceso a apio ecológico\, podéis utilizar el normal y lavarlo bien.  \nTambién necesitaréis una licuadora\, lo ideal es que sea de bajas revoluciones\, pero sino no pasa nada!. Si no tenéis licuadora\, seguro que tenéis batidora\, que aunque es un poco más tedioso de hacer\, también os sirve. \nSi la licuadora es vertical (estilo versapers y similares) es posible que el apio se enganche un poco (depende también de los modelos)\, en este caso lo que tenéis que hacer es trocearlo antes de meterlo en la licuadora.  \n¿Cómo se hace?\nCon la licuadora es muy sencillo\, simplemente laváis bien un manojo de apio y lo vais pasando por la licuadora hasta obtener vuestro zumo. Es recomendable quitarle las hojas al apio (si tiene muchas) ya que le dan un sabor amargo\, por lo que puede resultarnos más difícil de tomar\, pero si no os importa podéis dejarlas también. Si tiene pocas hojas y son de color más bien claro\, podéis dejarlas sin problema porque el sabor no será tan fuerte. \nCon la batidora tendréis que limpiar bien el apio\, quitarle las hojas si no queréis que sea tan amargo\, trocearlo e introducirlo en la batidora\, cuando esté todo bien batido tendréis que colarlo con un colador o con una bolsa de hacer leches vegetales y listo! \nAquí os dejo un vídeo donde salen los dos métodos \n¿Cuándo y cómo se toma?\nLo ideal para aprovechar mejor sus beneficios es que os lo toméis por la mañana en ayunas con el estómago vacío. Es mejor beberlo inmediatamente después de hacerlo y esperar al menos 20-30 minutos antes de desayunar. Si no podéis por la mañana\, también lo podéis hacer por la tarde con el estómago vacío\, de 20 a 30 minutos antes de comer algo o de 30 a 60 minutos después de picar algo ligero o 2 horas después de comer una comida más pesada en cualquier momento del día. \n¿Qué puedo hacer si no soporto el sabor?\nEl sabor del zumo de apio no es muy bueno\, pero si encontramos un apio de un color verde más claro y sin hojas\, es probable que eso nos ayude a tolerarlo mucho mejor. Si aún así no podéis tolerarlo bien\, podéis añadir zumo de limón\, manzana o pepino\, aunque sus beneficios son mayores cuando se toma solo\, pero podéis hacerlo así hasta que poco a poco os vayáis acostumbrando.  Si os provoca algún tipo de nausea o similar (puede ocurrir si tu estómago no está acostumbrado a los zumos verdes)\, es mejor empezar por menos cantidad y tomarlo lentamente\, no de golpe.  \n¿Qué propiedades tiene?\nOs pongo aquí un listado con todas las propiedades del zumo de apio. 
URL:https://anaestelles.com/evento/reto-10-dias-de-zumo-de-apio/
ATTACH;FMTTYPE=image/jpeg:https://anaestelles.com/wp-content/uploads/2020/05/DSC05968_1.jpg
END:VEVENT
BEGIN:VEVENT
DTSTART;TZID=Europe/Madrid:20190329T180000
DTEND;TZID=Europe/Madrid:20190329T190000
DTSTAMP:20260423T133538
CREATED:20190218T170723Z
LAST-MODIFIED:20190224T155221Z
UID:4597-1553882400-1553886000@anaestelles.com
SUMMARY:Charla 'Cómo mejorar y prevenir enfermedades con nutrición y estilo de vida'
DESCRIPTION:En esta charla os hablaré de los principios de la nutrición terapéutica y la medicina funcional y cómo usarlos para prevenir y mejorar enfermedades.  \nReserva tu plaza llamando o escribiendo al: 677235617 / 695548459 (aforo limitado!).
URL:https://anaestelles.com/evento/charla-como-mejorar-y-prevenir-enfermedades-con-nutricion-y-estilo-de-vida/
LOCATION:Kosmo\, Avenida Baleares 46\, B-izq\, Valencia\, Valencia\, 46023\, España
ATTACH;FMTTYPE=image/jpeg:https://anaestelles.com/wp-content/uploads/2019/02/Charla-Kosmo.jpg
END:VEVENT
BEGIN:VEVENT
DTSTART;TZID=Europe/Madrid:20181025T183000
DTEND;TZID=Europe/Madrid:20181025T200000
DTSTAMP:20260423T133538
CREATED:20181002T073020Z
LAST-MODIFIED:20181002T074043Z
UID:4491-1540492200-1540497600@anaestelles.com
SUMMARY:Cómo cuidar tu cerebro y prevenir enfermedades cognitivas con nutrición y estilo de vida
DESCRIPTION:
URL:https://anaestelles.com/evento/como-cuidar-tu-cerebro-y-prevenir-enfermedades-cognitivas-con-nutricion-y-estilo-de-vida/
LOCATION:Clínica María Luján\, Calle Isabel La Católica\, 3 puerta 2\, Valencia\, Valencia\, 46004\, España
END:VEVENT
BEGIN:VEVENT
DTSTART;TZID=Europe/Madrid:20171028T100000
DTEND;TZID=Europe/Madrid:20171028T170000
DTSTAMP:20260423T133538
CREATED:20170908T000533Z
LAST-MODIFIED:20171002T104217Z
UID:3941-1509184800-1509210000@anaestelles.com
SUMMARY:CURSO DE ALIMENTACIÓN SALUDABLE PARA TODA LA FAMILIA
DESCRIPTION:Este mini-curso es muy especial\, ya que me uno a Lucila\, veterinaria fundadora de Sana Animalia para hablaros de alimentación saludable para mascotas y para humanos. En la imagen tenéis el temario. Os podéis apuntar a una charla o a las dos\, según vuestros intereses. No os la perdáis! \nINSCRIPCIONES – Mandando un email a: contacto@anaestelles.com (Tenéis que decirme en el correo si queréis asistir solo a una parte o a las dos). 
URL:https://anaestelles.com/evento/curso-de-alimentacion-saludable-para-toda-la-familia/
LOCATION:Club de Lengua y Lectura VOSOTROS\, Principal 4º\,\, Ronda de la Universitat\, 20\, 08007 Barcelona\, Barcelona\, Barcelona\, 08007\, España
ATTACH;FMTTYPE=image/jpeg:https://anaestelles.com/wp-content/uploads/2017/09/A5_Paginas-2-y-3_Interior-folleto.jpg
END:VEVENT
BEGIN:VEVENT
DTSTART;TZID=Europe/Madrid:20170928T180000
DTEND;TZID=Europe/Madrid:20170928T190000
DTSTAMP:20260423T133538
CREATED:20170907T235522Z
LAST-MODIFIED:20170914T200535Z
UID:3939-1506621600-1506625200@anaestelles.com
SUMMARY:NUTRICIÓN TERAPÉUTICA. QUÉ ES Y CÓMO TE PUEDE AYUDAR A MEJORAR TU SALUD.
DESCRIPTION:La nutrición terapéutica se basa en los principios de medicina funcional. El objetivo de este enfoque de la nutrición es encontrar la causa de los desequilibrios en lugar de limitarnos a paliar los síntomas teniendo en cuenta que en el organismo todo está interconectado. Una vez encontrada la causa\, se usan alimentos\, nutrientes y cambios de estilo de vida para tratar de devolver el equilibrio al organismo. No se utilizan dietas\, sino cambios de hábitos de manera consciente. Es un buen coadyuvante en tratamientos médicos de problemas como la hipertensión\, la diabetes\, trastornos cardíacos\, problemas de piel\, problemas digestivos e intestinales\, infertilidad\, depresión\, enfermedades crónicas como la fibromialgia\, y un largo etcétera. También es una buena forma de prevenir futuros trastornos. Descubre en esta charla en qué consiste y cómo puede ayudarte. \nRESERVA TU PLAZA GRATUITA POR TELÉFONO O WHATSAPP EN EL 660 01 35 88
URL:https://anaestelles.com/evento/nutricion-terapeutica-que-es-y-como-te-puede-ayudar-a-mejorar-tu-salud/
LOCATION:Clínica María Luján\, Calle Isabel La Católica\, 3 puerta 2\, Valencia\, Valencia\, 46004\, España
ATTACH;FMTTYPE=image/jpeg:https://anaestelles.com/wp-content/uploads/2017/09/Charla-María-Lujan.jpg
END:VEVENT
BEGIN:VEVENT
DTSTART;TZID=Europe/Madrid:20161126T103000
DTEND;TZID=Europe/Madrid:20161126T133000
DTSTAMP:20260423T133538
CREATED:20161116T185653Z
LAST-MODIFIED:20161125T105913Z
UID:3665-1480156200-1480167000@anaestelles.com
SUMMARY:Taller cocina saludable de otoño - A beneficio de Compasión Animal
DESCRIPTION:El sábado 26 de Noviembre estaré en la preciosa tienda The Singular Kitchen en la calle Cirilo Amorós de Valencia impartiendo un taller de cocina de otoño saludable donde prepararemos un menú muy rico que luego degustaremos. Será una charla-taller donde os daré también claves para introducir hábitos saludables en vuestro día a día y hablaremos de las propiedades de los alimentos con los que trabajemos y de las últimas investigaciones científicas al respecto. El taller es benéfico y los beneficios son íntegros para el Santuario Compasión Animal\, que hace una labor maravillosa con animales de granja abandonados. Apuntaros pronto porque las plazas son limitadas. Vamos a aprender\, comer y ayudar a la vez\, ¿qué más se puede pedir?.
URL:https://anaestelles.com/evento/taller-cocina-saludable-de-otono-a-beneficio-de-compasion-animal/
LOCATION:The Singular Kitchen\, Calle Cirilo Amorós\, 12\, Valencia\, Valencia\, 46004\, España
ATTACH;FMTTYPE=image/jpeg:https://anaestelles.com/wp-content/uploads/2015/08/15079079_1203789839679082_7304533521388561890_n.jpg
END:VEVENT
BEGIN:VEVENT
DTSTART;TZID=Europe/Madrid:20161017T173000
DTEND;TZID=Europe/Madrid:20161017T183000
DTSTAMP:20260423T133538
CREATED:20161003T173337Z
LAST-MODIFIED:20161010T114752Z
UID:3547-1476725400-1476729000@anaestelles.com
SUMMARY:Genética y nutrición en el cáncer de mama
DESCRIPTION:El día 17 de Octubré estaré impartiendo junto a mis colegas de Biosequence una charla sobre Genética\, nutrición y estilo de vida en el cáncer de mama. En mi parte\, os daré consejos importantes sobre cómo prevenir y afrontar esta enfermedad. \nEs en El Corte Inglés de Colón en Valencia (Calle Colon\, 27 – Galería de Arte. Planta 5). El evento es gratuito pero es necesario reservar plaza escribiendo un correo a: info@bio-sequence.com \nPodéis leer más información sobre el evento aquí.
URL:https://anaestelles.com/evento/genetica-y-nutricion-en-el-cancer-de-mama/
LOCATION:El Corte Inglés-Colón\, Calle Colón\, 27\, Valencia\, Valencia\, 46004\, España
ATTACH;FMTTYPE=image/jpeg:https://anaestelles.com/wp-content/uploads/2016/10/NIHS-infographics_genes-diet-lifestyle.jpg
END:VEVENT
BEGIN:VEVENT
DTSTART;TZID=Europe/Madrid:20161005T180000
DTEND;TZID=Europe/Madrid:20161005T190000
DTSTAMP:20260423T133538
CREATED:20160928T230539Z
LAST-MODIFIED:20160928T230539Z
UID:3543-1475690400-1475694000@anaestelles.com
SUMMARY:Taller de Oncología personalizada y nutrición
DESCRIPTION:El día 5 de Octubre estaré en el Hospital Universitario Fundación Jiménez Díaz en Madrid impartiendo junto a Biosequense un taller de oncología personalizada y nutrición\, enfocado sobretodo al cáncer de ovario. Os espero!
URL:https://anaestelles.com/evento/taller-de-oncologia-personalizada-y-nutricion/
LOCATION:Hospital Universitario Fundación Jiménez Díaz\, Avenida Reyes Católicos\, 2\, Madrid\, 28040\, España
ATTACH;FMTTYPE=image/jpeg:https://anaestelles.com/wp-content/uploads/2016/09/ONCOLOGÍA-PERSONALIZADA-PROGRAMA-TALLER.jpg
END:VEVENT
BEGIN:VEVENT
DTSTART;TZID=Europe/Madrid:20160519T180000
DTEND;TZID=Europe/Madrid:20160519T190000
DTSTAMP:20260423T133538
CREATED:20160407T132307Z
LAST-MODIFIED:20160407T132307Z
UID:3128-1463680800-1463684400@anaestelles.com
SUMMARY:Superalimentos: Qué son y cómo utilizarlos para potenciar nuestra salud'
DESCRIPTION:Últimamente oímos mucho la palabra ‘superalimentos’\, pero ¿qué son realmente?. Muchos de ellos son alimentos que provienen de otros países y que hasta ahora no se podían conseguir aquí\, sin embargo algunos son viejos conocidos. En esta charla aprenderemos qué son los superalimentos\, qué propiedades tienen y cómo podemos beneficiarnos de ellos en nuestro día a día para potenciar nuestra salud.
URL:https://anaestelles.com/evento/superalimentos-que-son-y-como-utilizarlos-para-potenciar-nuestra-salud/
LOCATION:Herbolario J. Navarro\, Calle del Arzobispo Mayoral\, 20\, Valencia\, Valencia\, 46002\, España
ATTACH;FMTTYPE=image/jpeg:https://anaestelles.com/wp-content/uploads/2016/04/Charla-superalimentos.jpg
END:VEVENT
BEGIN:VEVENT
DTSTART;TZID=Europe/Madrid:20160420T180000
DTEND;TZID=Europe/Madrid:20160420T200000
DTSTAMP:20260423T133538
CREATED:20160407T085247Z
LAST-MODIFIED:20160407T090759Z
UID:3121-1461175200-1461182400@anaestelles.com
SUMMARY:Oncología Personalizada: Genética\, nutrición y estilo de vida
DESCRIPTION:El día 20 de Abril participaré en una sesión educativa sobre el rol que juega la genética en el cáncer y la importancia de una correcta alimentación y estilo de vida saludable. Hablaré durante aproximadamente 1 hora del importante papel que juega la alimentación en esta enfermedad.  Estará enfocado especialmente para cánceres de mama y ginecológicos. Además\, al final del evento\, degustaremos alguna receta.  \nEl evento es gratuito pero es necesario inscribirse. Si estáis en Madrid y os interesa el tema\, no os lo perdáis. \nPROGRAMA \n1. ¿Qué es la Oncología Personalizada? \n2. ¿Qué rol juega la genética en el cáncer? \n3. Estudio genómico: cuándo\, por qué y para qué realizarlo \n4. Cómo se realiza y resultados obtenidos \n5. Vídeo explicativo para pacientes \n6. Asesoramiento en estrategias nutricionales y estilos de vida; prevención y \nreducción de efectos secundarios \n7. Participación\, preguntas y respuestas
URL:https://anaestelles.com/evento/oncologia-personalizada-genetica-nutricion-y-estilo-de-vida/
LOCATION:Fundación Tejerina\, Calle de José Abascal\, 40 – Planta sexta\, Madrid\, Madrid\, 28003\, España
ATTACH;FMTTYPE=image/jpeg:https://anaestelles.com/wp-content/uploads/2016/04/Charla-fundacion.jpg
END:VEVENT
BEGIN:VEVENT
DTSTART;TZID=Europe/Madrid:20151021T173000
DTEND;TZID=Europe/Madrid:20151021T190000
DTSTAMP:20260423T133538
CREATED:20150813T215716Z
LAST-MODIFIED:20151003T084833Z
UID:2257-1445448600-1445454000@anaestelles.com
SUMMARY:Las intolerancias alimenticias y sus causas
DESCRIPTION:En los últimos años cada vez más personas son intolerantes a algún alimento\, cada vez es más común encontrar a gente intolerante a la lactosa\, al gluten\, a la fructosa\, etc. Pero\, ¿por qué de repente nos volvemos intolerantes a algún alimento? ¿qué ha cambiado en nuestro cuerpo para que eso ocurra?. En esta charla explicaremos un poco más a fondo qué hay detrás de todas estas intolerancias y los trastornos asociados a las mismas. 
URL:https://anaestelles.com/evento/las-intolerancias-alimenticias-y-sus-causas/
LOCATION:Herbolario J. Navarro\, Calle del Arzobispo Mayoral\, 20\, Valencia\, Valencia\, 46002\, España
ATTACH;FMTTYPE=image/jpeg:https://anaestelles.com/wp-content/uploads/2015/08/charla2.jpg
END:VEVENT
END:VCALENDAR