BEGIN:VCALENDAR
VERSION:2.0
PRODID:-//Ana Estellés | Nutrición Terapéutica - ECPv6.0.10//NONSGML v1.0//EN
CALSCALE:GREGORIAN
METHOD:PUBLISH
X-ORIGINAL-URL:https://anaestelles.com
X-WR-CALDESC:Eventos para Ana Estellés | Nutrición Terapéutica
REFRESH-INTERVAL;VALUE=DURATION:PT1H
X-Robots-Tag:noindex
X-PUBLISHED-TTL:PT1H
BEGIN:VTIMEZONE
TZID:Europe/Madrid
BEGIN:DAYLIGHT
TZOFFSETFROM:+0100
TZOFFSETTO:+0200
TZNAME:CEST
DTSTART:20150329T010000
END:DAYLIGHT
BEGIN:STANDARD
TZOFFSETFROM:+0200
TZOFFSETTO:+0100
TZNAME:CET
DTSTART:20151025T010000
END:STANDARD
BEGIN:DAYLIGHT
TZOFFSETFROM:+0100
TZOFFSETTO:+0200
TZNAME:CEST
DTSTART:20160327T010000
END:DAYLIGHT
BEGIN:STANDARD
TZOFFSETFROM:+0200
TZOFFSETTO:+0100
TZNAME:CET
DTSTART:20161030T010000
END:STANDARD
END:VTIMEZONE
BEGIN:VEVENT
DTSTART;TZID=Europe/Madrid:20160420T180000
DTEND;TZID=Europe/Madrid:20160420T200000
DTSTAMP:20260423T151417
CREATED:20160407T085247Z
LAST-MODIFIED:20160407T090759Z
UID:3121-1461175200-1461182400@anaestelles.com
SUMMARY:Oncología Personalizada: Genética\, nutrición y estilo de vida
DESCRIPTION:El día 20 de Abril participaré en una sesión educativa sobre el rol que juega la genética en el cáncer y la importancia de una correcta alimentación y estilo de vida saludable. Hablaré durante aproximadamente 1 hora del importante papel que juega la alimentación en esta enfermedad.  Estará enfocado especialmente para cánceres de mama y ginecológicos. Además\, al final del evento\, degustaremos alguna receta.  \nEl evento es gratuito pero es necesario inscribirse. Si estáis en Madrid y os interesa el tema\, no os lo perdáis. \nPROGRAMA \n1. ¿Qué es la Oncología Personalizada? \n2. ¿Qué rol juega la genética en el cáncer? \n3. Estudio genómico: cuándo\, por qué y para qué realizarlo \n4. Cómo se realiza y resultados obtenidos \n5. Vídeo explicativo para pacientes \n6. Asesoramiento en estrategias nutricionales y estilos de vida; prevención y \nreducción de efectos secundarios \n7. Participación\, preguntas y respuestas
URL:https://anaestelles.com/evento/oncologia-personalizada-genetica-nutricion-y-estilo-de-vida/
LOCATION:Fundación Tejerina\, Calle de José Abascal\, 40 – Planta sexta\, Madrid\, Madrid\, 28003\, España
ATTACH;FMTTYPE=image/jpeg:https://anaestelles.com/wp-content/uploads/2016/04/Charla-fundacion.jpg
END:VEVENT
BEGIN:VEVENT
DTSTART;TZID=Europe/Madrid:20151021T173000
DTEND;TZID=Europe/Madrid:20151021T190000
DTSTAMP:20260423T151417
CREATED:20150813T215716Z
LAST-MODIFIED:20151003T084833Z
UID:2257-1445448600-1445454000@anaestelles.com
SUMMARY:Las intolerancias alimenticias y sus causas
DESCRIPTION:En los últimos años cada vez más personas son intolerantes a algún alimento\, cada vez es más común encontrar a gente intolerante a la lactosa\, al gluten\, a la fructosa\, etc. Pero\, ¿por qué de repente nos volvemos intolerantes a algún alimento? ¿qué ha cambiado en nuestro cuerpo para que eso ocurra?. En esta charla explicaremos un poco más a fondo qué hay detrás de todas estas intolerancias y los trastornos asociados a las mismas. 
URL:https://anaestelles.com/evento/las-intolerancias-alimenticias-y-sus-causas/
LOCATION:Herbolario J. Navarro\, Calle del Arzobispo Mayoral\, 20\, Valencia\, Valencia\, 46002\, España
ATTACH;FMTTYPE=image/jpeg:https://anaestelles.com/wp-content/uploads/2015/08/charla2.jpg
END:VEVENT
END:VCALENDAR